BEGIN:VCALENDAR
VERSION:2.0
PRODID:-//Squarespace Inc/Squarespace 6//v6//EN
BEGIN:VEVENT
UID:5d3f54c380da9a0001bcfc13@squarespace.com
DTSTAMP:20190729T201917Z
DTSTART:20190828T220000Z
DTEND:20190828T230000Z
SUMMARY:Lollipops Newton
END:VEVENT
END:VCALENDAR
