BEGIN:VCALENDAR
VERSION:2.0
PRODID:-//Squarespace Inc/Squarespace 6//v6//EN
BEGIN:VEVENT
UID:5d3f54cdbd97e000019774a0@squarespace.com
DTSTAMP:20190729T201930Z
DTSTART:20190904T220000Z
DTEND:20190904T230000Z
SUMMARY:Lollipops Newton
END:VEVENT
END:VCALENDAR
