BEGIN:VCALENDAR
VERSION:2.0
PRODID:-//Squarespace Inc/Squarespace 6//v6//EN
BEGIN:VEVENT
UID:5ce32ae598a4090001f3b5b9@squarespace.com
DTSTAMP:20190520T223215Z
DTSTART:20190619T220000Z
DTEND:20190619T230000Z
SUMMARY:Lollipops Newton
END:VEVENT
END:VCALENDAR
