BEGIN:VCALENDAR
VERSION:2.0
PRODID:-//Squarespace Inc/Squarespace 6//v6//EN
BEGIN:VEVENT
UID:5ce329559cfe1700016a72ad@squarespace.com
DTSTAMP:20190520T222533Z
DTSTART:20190612T220000Z
DTEND:20190612T230000Z
SUMMARY:Lollipops Newton
END:VEVENT
END:VCALENDAR
