BEGIN:VCALENDAR
VERSION:2.0
PRODID:-//Squarespace Inc/Squarespace 6//v6//EN
BEGIN:VEVENT
UID:5ce2279d76d11a00014261ea@squarespace.com
DTSTAMP:20190520T212537Z
DTSTART:20190522T220000Z
DTEND:20190522T230000Z
SUMMARY:Lollipops Newton
END:VEVENT
END:VCALENDAR
