BEGIN:VCALENDAR
VERSION:2.0
PRODID:-//Squarespace Inc/Squarespace 6//v6//EN
BEGIN:VEVENT
UID:5d3f54727050320001dab5f8@squarespace.com
DTSTAMP:20190729T201809Z
DTSTART:20190731T220000Z
DTEND:20190731T230000Z
SUMMARY:Lollipops Newton
END:VEVENT
END:VCALENDAR
