BEGIN:VCALENDAR
VERSION:2.0
PRODID:-//Squarespace Inc/Squarespace 6//v6//EN
BEGIN:VEVENT
UID:5ce32968b9f26f00017a2d9c@squarespace.com
DTSTAMP:20190520T222553Z
DTSTART:20190612T230000Z
DTEND:20190613T000000Z
SUMMARY:Milky Way
END:VEVENT
END:VCALENDAR
