BEGIN:VCALENDAR
VERSION:2.0
PRODID:-//Squarespace Inc/Squarespace 6//v6//EN
BEGIN:VEVENT
UID:5ce32af6fe6ce300019c7ee5@squarespace.com
DTSTAMP:20190520T223229Z
DTSTART:20190619T230000Z
DTEND:20190620T000000Z
SUMMARY:Milky Way
END:VEVENT
END:VCALENDAR
