BEGIN:VCALENDAR
VERSION:2.0
PRODID:-//Squarespace Inc/Squarespace 6//v6//EN
BEGIN:VEVENT
UID:5d3f543f120d0b0001b90b76@squarespace.com
DTSTAMP:20190729T201708Z
DTSTART:20190925T030000Z
DTEND:20190925T040000Z
SUMMARY:Grey Lynn School
END:VEVENT
END:VCALENDAR
