BEGIN:VCALENDAR
VERSION:2.0
PRODID:-//Squarespace Inc/Squarespace 6//v6//EN
BEGIN:VEVENT
UID:5d3f5764baa8cd00016dbd9a@squarespace.com
DTSTAMP:20190729T203033Z
DTSTART:20190913T010000Z
DTEND:20190913T020000Z
SUMMARY:Westmere Kindergarten
END:VEVENT
END:VCALENDAR
