BEGIN:VCALENDAR
VERSION:2.0
PRODID:-//Squarespace Inc/Squarespace 6//v6//EN
BEGIN:VEVENT
UID:5d3f53c9023c4f0001b549ad@squarespace.com
DTSTAMP:20190729T201518Z
DTSTART:20190814T030000Z
DTEND:20190814T040000Z
SUMMARY:Grey Lynn School
END:VEVENT
END:VCALENDAR
