BEGIN:VCALENDAR
VERSION:2.0
PRODID:-//Squarespace Inc/Squarespace 6//v6//EN
BEGIN:VEVENT
UID:5d3e6b08242c220001cfd317@squarespace.com
DTSTAMP:20190729T034204Z
DTSTART:20190915T220000Z
DTEND:20190915T230000Z
SUMMARY:Pascals Herne Bay Daycare
END:VEVENT
END:VCALENDAR
