BEGIN:VCALENDAR
VERSION:2.0
PRODID:-//Squarespace Inc/Squarespace 6//v6//EN
BEGIN:VEVENT
UID:5d3e6abc0fc6b80001530b10@squarespace.com
DTSTAMP:20190729T034054Z
DTSTART:20190818T220000Z
DTEND:20190818T230000Z
SUMMARY:Pascals Herne Bay Daycare
END:VEVENT
END:VCALENDAR
