BEGIN:VCALENDAR
VERSION:2.0
PRODID:-//Squarespace Inc/Squarespace 6//v6//EN
BEGIN:VEVENT
UID:5ce329ca38bb9e0001a43b67@squarespace.com
DTSTAMP:20190520T222732Z
DTSTART:20190616T220000Z
DTEND:20190616T230000Z
SUMMARY:Pascals Herne Bay Daycare
END:VEVENT
END:VCALENDAR
