BEGIN:VCALENDAR
VERSION:2.0
PRODID:-//Squarespace Inc/Squarespace 6//v6//EN
BEGIN:VEVENT
UID:5ce321b3f4f5800001552185@squarespace.com
DTSTAMP:20190520T215259Z
DTSTART:20190602T220000Z
DTEND:20190602T230000Z
SUMMARY:Pascals Herne Bay Daycare
END:VEVENT
END:VCALENDAR
