BEGIN:VCALENDAR
VERSION:2.0
PRODID:-//Squarespace Inc/Squarespace 6//v6//EN
BEGIN:VEVENT
UID:5ce31c7c4de4a400010d5e6f@squarespace.com
DTSTAMP:20190520T213039Z
DTSTART:20190526T220000Z
DTEND:20190526T230000Z
SUMMARY:Pascals Herne Bay Daycare
END:VEVENT
END:VCALENDAR
