BEGIN:VCALENDAR
VERSION:2.0
PRODID:-//Squarespace Inc/Squarespace 6//v6//EN
BEGIN:VEVENT
UID:5d3e72537f6c600001b0d13b@squarespace.com
DTSTAMP:20190729T041313Z
DTSTART:20190730T213000Z
DTEND:20190730T223000Z
SUMMARY:Point Chevalier Kindergarten
END:VEVENT
END:VCALENDAR
