BEGIN:VCALENDAR
VERSION:2.0
PRODID:-//Squarespace Inc/Squarespace 6//v6//EN
BEGIN:VEVENT
UID:5d3f5304e190cc000130724a@squarespace.com
DTSTAMP:20190729T201151Z
DTSTART:20190813T213000Z
DTEND:20190813T223000Z
SUMMARY:Point Chevalier Kindergarten
END:VEVENT
END:VCALENDAR
