BEGIN:VCALENDAR
VERSION:2.0
PRODID:-//Squarespace Inc/Squarespace 6//v6//EN
BEGIN:VEVENT
UID:5d3f531f9c852b0001aa72b4@squarespace.com
DTSTAMP:20190729T201217Z
DTSTART:20190827T213000Z
DTEND:20190827T223000Z
SUMMARY:Point Chevalier Kindergarten
END:VEVENT
END:VCALENDAR
