BEGIN:VCALENDAR
VERSION:2.0
PRODID:-//Squarespace Inc/Squarespace 6//v6//EN
BEGIN:VEVENT
UID:5d3f5351fd4a5b000130e700@squarespace.com
DTSTAMP:20190729T201308Z
DTSTART:20190910T213000Z
DTEND:20190910T223000Z
SUMMARY:Point Chevalier Kindergarten
END:VEVENT
END:VCALENDAR
