BEGIN:VCALENDAR
VERSION:2.0
PRODID:-//Squarespace Inc/Squarespace 6//v6//EN
BEGIN:VEVENT
UID:5d3f536ff530e500016ec3ae@squarespace.com
DTSTAMP:20190729T201337Z
DTSTART:20190924T213000Z
DTEND:20190924T223000Z
SUMMARY:Point Chevalier Kindergarten
END:VEVENT
END:VCALENDAR
