BEGIN:VCALENDAR
VERSION:2.0
PRODID:-//Squarespace Inc/Squarespace 6//v6//EN
BEGIN:VEVENT
UID:5ce32981808ca700013f4529@squarespace.com
DTSTAMP:20190520T222619Z
DTSTART:20190613T213000Z
DTEND:20190613T223000Z
SUMMARY:Point Chevalier Kindergarten
END:VEVENT
END:VCALENDAR
