BEGIN:VCALENDAR
VERSION:2.0
PRODID:-//Squarespace Inc/Squarespace 6//v6//EN
BEGIN:VEVENT
UID:5ce32b34bab8d30001eb6d9e@squarespace.com
DTSTAMP:20190520T223332Z
DTSTART:20190620T213000Z
DTEND:20190620T223000Z
SUMMARY:Point Chevalier Kindergarten
END:VEVENT
END:VCALENDAR
