BEGIN:VCALENDAR
VERSION:2.0
PRODID:-//Squarespace Inc/Squarespace 6//v6//EN
BEGIN:VEVENT
UID:5ce2238b60b1030001f1f260@squarespace.com
DTSTAMP:20190520T212617Z
DTSTART:20190523T213000Z
DTEND:20190523T223000Z
SUMMARY:Point Chevalier Kindergarten
END:VEVENT
END:VCALENDAR
