BEGIN:VCALENDAR
VERSION:2.0
PRODID:-//Squarespace Inc/Squarespace 6//v6//EN
BEGIN:VEVENT
UID:5d3f55adf530e500016ef3b1@squarespace.com
DTSTAMP:20190729T202315Z
DTSTART:20190822T004500Z
DTEND:20190822T014500Z
SUMMARY:Blockhouse Bay Baptist Church Kindy
END:VEVENT
END:VCALENDAR
