BEGIN:VCALENDAR
VERSION:2.0
PRODID:-//Squarespace Inc/Squarespace 6//v6//EN
BEGIN:VEVENT
UID:5d3e6bf18fe703000135c257@squarespace.com
DTSTAMP:20190729T034557Z
DTSTART:20190923T214500Z
DTEND:20190923T224500Z
SUMMARY:The Learning Space
END:VEVENT
END:VCALENDAR
