BEGIN:VCALENDAR
VERSION:2.0
PRODID:-//Squarespace Inc/Squarespace 6//v6//EN
BEGIN:VEVENT
UID:5d3f563b120d0b0001b93234@squarespace.com
DTSTAMP:20190729T202534Z
DTSTART:20190808T230000Z
DTEND:20190809T000000Z
SUMMARY:Sunbeams Private Kindergarten
END:VEVENT
END:VCALENDAR
