BEGIN:VCALENDAR
VERSION:2.0
PRODID:-//Squarespace Inc/Squarespace 6//v6//EN
BEGIN:VEVENT
UID:5d3f564743b0be00017fb0d1@squarespace.com
DTSTAMP:20190729T202546Z
DTSTART:20190815T230000Z
DTEND:20190816T000000Z
SUMMARY:Sunbeams Private Kindergarten
END:VEVENT
END:VCALENDAR
