BEGIN:VCALENDAR
VERSION:2.0
PRODID:-//Squarespace Inc/Squarespace 6//v6//EN
BEGIN:VEVENT
UID:5d3f565380da9a0001bd1eac@squarespace.com
DTSTAMP:20190729T202559Z
DTSTART:20190829T230000Z
DTEND:20190830T000000Z
SUMMARY:Sunbeams Private Kindergarten
END:VEVENT
END:VCALENDAR
