BEGIN:VCALENDAR
VERSION:2.0
PRODID:-//Squarespace Inc/Squarespace 6//v6//EN
BEGIN:VEVENT
UID:5d3f5665ced8820001546e75@squarespace.com
DTSTAMP:20190729T202616Z
DTSTART:20190822T230000Z
DTEND:20190823T000000Z
SUMMARY:Sunbeams Private Kindergarten
END:VEVENT
END:VCALENDAR
