BEGIN:VCALENDAR
VERSION:2.0
PRODID:-//Squarespace Inc/Squarespace 6//v6//EN
BEGIN:VEVENT
UID:5d3f5675ced8820001546f8f@squarespace.com
DTSTAMP:20190729T202632Z
DTSTART:20190905T230000Z
DTEND:20190906T000000Z
SUMMARY:Sunbeams Private Kindergarten
END:VEVENT
END:VCALENDAR
