BEGIN:VCALENDAR
VERSION:2.0
PRODID:-//Squarespace Inc/Squarespace 6//v6//EN
BEGIN:VEVENT
UID:5ce32bb9362fa200016acc87@squarespace.com
DTSTAMP:20190520T223544Z
DTSTART:20190625T230500Z
DTEND:20190626T000500Z
SUMMARY:Sunbeams Private Kindergarten
END:VEVENT
END:VCALENDAR
