BEGIN:VCALENDAR
VERSION:2.0
PRODID:-//Squarespace Inc/Squarespace 6//v6//EN
BEGIN:VEVENT
UID:5ce31c85bab8d30001ea9c1d@squarespace.com
DTSTAMP:20190520T213057Z
DTSTART:20190528T230500Z
DTEND:20190529T000500Z
SUMMARY:Sunbeams Private Kindergarten
END:VEVENT
END:VCALENDAR
