BEGIN:VCALENDAR
VERSION:2.0
PRODID:-//Squarespace Inc/Squarespace 6//v6//EN
BEGIN:VEVENT
UID:5ce3291a4de4a400010e11fb@squarespace.com
DTSTAMP:20190520T222433Z
DTSTART:20190611T230500Z
DTEND:20190612T000500Z
SUMMARY:Sunbeams Private Kindergarten
END:VEVENT
END:VCALENDAR
