BEGIN:VCALENDAR
VERSION:2.0
PRODID:-//Squarespace Inc/Squarespace 6//v6//EN
BEGIN:VEVENT
UID:5d3f5610ced88200015466f8@squarespace.com
DTSTAMP:20190729T202520Z
DTSTART:20190801T230000Z
DTEND:20190802T000000Z
SUMMARY:Sunbeams Private Kindergarten
END:VEVENT
END:VCALENDAR
