BEGIN:VCALENDAR
VERSION:2.0
PRODID:-//Squarespace Inc/Squarespace 6//v6//EN
BEGIN:VEVENT
UID:5d3e72018fe70300013610f8@squarespace.com
DTSTAMP:20190729T041151Z
DTSTART:20190910T004500Z
DTEND:20190910T014500Z
SUMMARY:Blockhouse Bay Baptist Church Kindy
END:VEVENT
END:VCALENDAR
