BEGIN:VCALENDAR
VERSION:2.0
PRODID:-//Squarespace Inc/Squarespace 6//v6//EN
BEGIN:VEVENT
UID:5d3e6b24441216000190a428@squarespace.com
DTSTAMP:20190729T034245Z
DTSTART:20190812T214500Z
DTEND:20190812T224500Z
SUMMARY:The Learning Space
END:VEVENT
END:VCALENDAR
