BEGIN:VCALENDAR
VERSION:2.0
PRODID:-//Squarespace Inc/Squarespace 6//v6//EN
BEGIN:VEVENT
UID:5d3e6b492c686100016570f6@squarespace.com
DTSTAMP:20190729T034350Z
DTSTART:20190826T214500Z
DTEND:20190826T224500Z
SUMMARY:The Learning Space
END:VEVENT
END:VCALENDAR
