BEGIN:VCALENDAR
VERSION:2.0
PRODID:-//Squarespace Inc/Squarespace 6//v6//EN
BEGIN:VEVENT
UID:5d3e6b5ee36df200015bb68e@squarespace.com
DTSTAMP:20190729T034333Z
DTSTART:20190819T214500Z
DTEND:20190819T224500Z
SUMMARY:The Learning Space
END:VEVENT
END:VCALENDAR
