BEGIN:VCALENDAR
VERSION:2.0
PRODID:-//Squarespace Inc/Squarespace 6//v6//EN
BEGIN:VEVENT
UID:5ce32b62e9421300012be680@squarespace.com
DTSTAMP:20190520T223416Z
DTSTART:20190624T214500Z
DTEND:20190624T224500Z
SUMMARY:The Learning Space
END:VEVENT
END:VCALENDAR
