BEGIN:VCALENDAR
VERSION:2.0
PRODID:-//Squarespace Inc/Squarespace 6//v6//EN
BEGIN:VEVENT
UID:5ce31c6e9cfe17000169aaca@squarespace.com
DTSTAMP:20190520T221034Z
DTSTART:20190610T214500Z
DTEND:20190610T224500Z
SUMMARY:The Learning Space
END:VEVENT
END:VCALENDAR
