BEGIN:VCALENDAR
VERSION:2.0
PRODID:-//Squarespace Inc/Squarespace 6//v6//EN
BEGIN:VEVENT
UID:5d3e69fd17b49100017e0c83@squarespace.com
DTSTAMP:20190729T033743Z
DTSTART:20190729T214500Z
DTEND:20190729T224500Z
SUMMARY:The Learning Space
END:VEVENT
END:VCALENDAR
