BEGIN:VCALENDAR
VERSION:2.0
PRODID:-//Squarespace Inc/Squarespace 6//v6//EN
BEGIN:VEVENT
UID:5d3f56d9120d0b0001b940d6@squarespace.com
DTSTAMP:20190729T202818Z
DTSTART:20190809T010000Z
DTEND:20190809T020000Z
SUMMARY:Westmere Kindergarten
END:VEVENT
END:VCALENDAR
