BEGIN:VCALENDAR
VERSION:2.0
PRODID:-//Squarespace Inc/Squarespace 6//v6//EN
BEGIN:VEVENT
UID:5d3f56ed120d0b0001b942ac@squarespace.com
DTSTAMP:20190729T202835Z
DTSTART:20190816T010000Z
DTEND:20190816T020000Z
SUMMARY:Westmere Kindergarten
END:VEVENT
END:VCALENDAR
