BEGIN:VCALENDAR
VERSION:2.0
PRODID:-//Squarespace Inc/Squarespace 6//v6//EN
BEGIN:VEVENT
UID:5d3f56fb9c852b0001aabcef@squarespace.com
DTSTAMP:20190729T202911Z
DTSTART:20190906T010000Z
DTEND:20190906T020000Z
SUMMARY:Westmere Kindergarten
END:VEVENT
END:VCALENDAR
