BEGIN:VCALENDAR
VERSION:2.0
PRODID:-//Squarespace Inc/Squarespace 6//v6//EN
BEGIN:VEVENT
UID:5d3f572798ec4a000110fc5f@squarespace.com
DTSTAMP:20190729T202936Z
DTSTART:20190823T010000Z
DTEND:20190823T020000Z
SUMMARY:Westmere Kindergarten
END:VEVENT
END:VCALENDAR
