BEGIN:VCALENDAR
VERSION:2.0
PRODID:-//Squarespace Inc/Squarespace 6//v6//EN
BEGIN:VEVENT
UID:5d3f573a915075000115f068@squarespace.com
DTSTAMP:20190729T202951Z
DTSTART:20190830T010000Z
DTEND:20190830T020000Z
SUMMARY:Westmere Kindergarten
END:VEVENT
END:VCALENDAR
