BEGIN:VCALENDAR
VERSION:2.0
PRODID:-//Squarespace Inc/Squarespace 6//v6//EN
BEGIN:VEVENT
UID:5ce32bc7e9421300012beacd@squarespace.com
DTSTAMP:20190520T223556Z
DTSTART:20190626T010000Z
DTEND:20190626T020000Z
SUMMARY:Westmere Kindergarten
END:VEVENT
END:VCALENDAR
