BEGIN:VCALENDAR
VERSION:2.0
PRODID:-//Squarespace Inc/Squarespace 6//v6//EN
BEGIN:VEVENT
UID:5ce32380ad5842000189943c@squarespace.com
DTSTAMP:20190520T220043Z
DTSTART:20190605T010000Z
DTEND:20190605T020000Z
SUMMARY:Westmere Kindergarten
END:VEVENT
END:VCALENDAR
