BEGIN:VCALENDAR
VERSION:2.0
PRODID:-//Squarespace Inc/Squarespace 6//v6//EN
BEGIN:VEVENT
UID:5ce329296912280001c67698@squarespace.com
DTSTAMP:20190520T222449Z
DTSTART:20190612T010000Z
DTEND:20190612T020000Z
SUMMARY:Westmere Kindergarten
END:VEVENT
END:VCALENDAR
